BEGIN:VCALENDAR
VERSION:2.0
PRODID:-//ocao.org//NONSGML kigkonsult.se iCalcreator 2.30.10//
CALSCALE:GREGORIAN
METHOD:PUBLISH
UID:4cdea3e4-5e85-4d47-a5a4-9a70b150a281
X-WR-CALDESC:The OCAO Strides for Hope is back for 2025. The Run/Walk is lo
 cated at Avery Park in Dublin on September 21\, 2025. There will also be a
  1-mile option for survivors and participants. You can arrive at 8:00 am. 
 Survivor pictures are at 9:00 am with the race starting at 9:30 am. Race s
 hould be completed by 11:00. Please click on the link below to register. Y
 ou will be redirected to runsignup.com for registration.
X-WR-RELCALID:c3ced3f83192281922d7e961025096bf
X-WR-TIMEZONE:America/New_York
BEGIN:VTIMEZONE
TZID:America/New_York
BEGIN:STANDARD
TZNAME:EST
DTSTART:20241103T020000
TZOFFSETFROM:-0400
TZOFFSETTO:-0500
RDATE:20251102T020000
RDATE:20261101T020000
END:STANDARD
BEGIN:DAYLIGHT
TZNAME:EDT
DTSTART:20250309T020000
TZOFFSETFROM:-0500
TZOFFSETTO:-0400
RDATE:20260308T020000
RDATE:20270314T020000
END:DAYLIGHT
END:VTIMEZONE
BEGIN:VEVENT
UID:8cfa9651-4704-4336-adfc-f7848836d46a
DTSTAMP:20260419T121556Z
DESCRIPTION:The OCAO Strides for Hope is back for 2025. The Run/Walk is loc
 ated at Avery Park in Dublin on September 21\, 2025. There will also be a 
 1-mile option for survivors and participants. You can arrive at 8:00 am. S
 urvivor pictures are at 9:00 am with the race starting at 9:30 am. Race sh
 ould be completed by 11:00. Please click on the link below to register. Yo
 u will be redirected to runsignup.com for registration.
DTSTART;TZID=America/New_York:20250921T090000
DTEND;TZID=America/New_York:20250921T120000
LOCATION:Avery Park\, 7401 Avery Rd. \, Dublin\, OH 43017 US
SUMMARY:OCAO Strides for Hope 5k Run/Walk
END:VEVENT
END:VCALENDAR
