BEGIN:VCALENDAR
VERSION:2.0
PRODID:-//ocao.org//NONSGML kigkonsult.se iCalcreator 2.30.10//
CALSCALE:GREGORIAN
METHOD:PUBLISH
UID:cb76ddc2-8b39-4901-a22b-5ffccbbd6fd8
X-WR-CALDESC:Turn Huntington Park Teal Is Back!!\n\nWe have rented out the 
 Pepsi party deck for you to enjoy a day out at the ballpark.\nSurvivors ar
 e free\, guests of survivors are $25.00. You get entrance to the game\, en
 trance to the party deck\, lunch and dessert.\nIf we are able to get the t
 ickets early\, we will have a ticket pick up day at our office. We will se
 nd out an email with the information. This will start our awareness month 
 out with a strong burst of TEAL at Huntington Park. Tickets can be purchas
 ed at ocao.org.
X-WR-RELCALID:7c1064068fbf0da0c55a7915bb9cf58c
X-WR-TIMEZONE:America/New_York
BEGIN:VTIMEZONE
TZID:America/New_York
BEGIN:STANDARD
TZNAME:EST
DTSTART:20241103T020000
TZOFFSETFROM:-0400
TZOFFSETTO:-0500
RDATE:20251102T020000
RDATE:20261101T020000
END:STANDARD
BEGIN:DAYLIGHT
TZNAME:EDT
DTSTART:20250309T020000
TZOFFSETFROM:-0500
TZOFFSETTO:-0400
RDATE:20260308T020000
END:DAYLIGHT
END:VTIMEZONE
BEGIN:VEVENT
UID:b78e7ede-b6d5-4daa-a951-cc60486b4680
DTSTAMP:20260419T121221Z
DESCRIPTION:Turn Huntington Park Teal Is Back!!\n\nWe have rented out the P
 epsi party deck for you to enjoy a day out at the ballpark.\nSurvivors are
  free\, guests of survivors are $25.00. You get entrance to the game\, ent
 rance to the party deck\, lunch and dessert.\nIf we are able to get the ti
 ckets early\, we will have a ticket pick up day at our office. We will sen
 d out an email with the information. This will start our awareness month o
 ut with a strong burst of TEAL at Huntington Park. Tickets can be purchase
 d at ocao.org.
DTSTART;TZID=America/New_York:20250907T120000
DTEND;TZID=America/New_York:20250907T170000
LOCATION:
SUMMARY:Turn Huntington Park Teal
END:VEVENT
END:VCALENDAR
