BEGIN:VCALENDAR
VERSION:2.0
PRODID:-//ocao.org//NONSGML kigkonsult.se iCalcreator 2.30.10//
CALSCALE:GREGORIAN
METHOD:PUBLISH
UID:6ca6c2e9-ac29-40c2-b473-073524d5a38b
X-WR-CALDESC:Arrive at 5:15 for a back stage tour\, the show will start at 
 8:00\nTecumseh: The Ultimate Outdoor Drama Experience!\nWitness the epic l
 ife story of the legendary Shawnee leader as he struggles to defend his sa
 cred homelands in the Ohio country during the late 1700’s. The huge\, outd
 oor stages of the Sugarloaf Mountain Amphitheatre afford the audience a un
 ique viewing experience. Sit beneath the stars as sheer spectacle surround
 s you with a herd of galloping horses\, live military cannon in action\, a
 nd the most dazzling battle sequences offered on the American stage.\n\nOf
 ten emulated within the outdoor drama industry\, TECUMSEH! continues to se
 t the standard for innovative production techniques.
X-WR-RELCALID:3fbe0930c6cfe6999336a880a34b7535
X-WR-TIMEZONE:America/New_York
BEGIN:VTIMEZONE
TZID:America/New_York
BEGIN:STANDARD
TZNAME:EST
DTSTART:20211107T020000
TZOFFSETFROM:-0400
TZOFFSETTO:-0500
RDATE:20221106T020000
RDATE:20231105T020000
END:STANDARD
BEGIN:DAYLIGHT
TZNAME:EDT
DTSTART:20220313T020000
TZOFFSETFROM:-0500
TZOFFSETTO:-0400
RDATE:20230312T020000
END:DAYLIGHT
END:VTIMEZONE
BEGIN:VEVENT
UID:6b90bee1-9c4f-4ba8-81e7-81b98722bfd7
DTSTAMP:20260424T183713Z
DESCRIPTION:Arrive at 5:15 for a back stage tour\, the show will start at 8
 :00\nTecumseh: The Ultimate Outdoor Drama Experience!\nWitness the epic li
 fe story of the legendary Shawnee leader as he struggles to defend his sac
 red homelands in the Ohio country during the late 1700’s. The huge\, outdo
 or stages of the Sugarloaf Mountain Amphitheatre afford the audience a uni
 que viewing experience. Sit beneath the stars as sheer spectacle surrounds
  you with a herd of galloping horses\, live military cannon in action\, an
 d the most dazzling battle sequences offered on the American stage.\n\nOft
 en emulated within the outdoor drama industry\, TECUMSEH! continues to set
  the standard for innovative production techniques.
DTSTART;TZID=America/New_York:20220618T171500
DTEND;TZID=America/New_York:20220618T223000
LOCATION:5968 Marietta Rd.\, Chillicothe\, OH 45601 US
SUMMARY:Tecumseh
END:VEVENT
END:VCALENDAR
