BEGIN:VCALENDAR
VERSION:2.0
PRODID:-//ocao.org//NONSGML kigkonsult.se iCalcreator 2.30.10//
CALSCALE:GREGORIAN
METHOD:PUBLISH
UID:fd0977e2-3cd4-4c69-a8f7-fdbc4d45f997
X-WR-CALDESC:Invites will be sent out soon. If you are not on our mailing l
 ist please email lmitchell@ocao.org to be added.
X-WR-RELCALID:df895096773448a148aa5745f1f8f717
X-WR-TIMEZONE:America/New_York
BEGIN:VTIMEZONE
TZID:America/New_York
BEGIN:STANDARD
TZNAME:EST
DTSTART:20211107T020000
TZOFFSETFROM:-0400
TZOFFSETTO:-0500
RDATE:20221106T020000
END:STANDARD
BEGIN:DAYLIGHT
TZNAME:EDT
DTSTART:20220313T020000
TZOFFSETFROM:-0500
TZOFFSETTO:-0400
RDATE:20230312T020000
END:DAYLIGHT
END:VTIMEZONE
BEGIN:VEVENT
UID:dfae7d3d-31bf-425b-a5c2-eb1aee4cd264
DTSTAMP:20260424T164929Z
DESCRIPTION:Invites will be sent out soon. If you are not on our mailing li
 st please email lmitchell@ocao.org to be added.
DTSTART;TZID=America/New_York:20220501T110000
DTEND;TZID=America/New_York:20220501T130000
LOCATION:580 N. 4th St.\, Columbus \, OH 43215 US
SUMMARY:Survivor Brunch
END:VEVENT
END:VCALENDAR
