BEGIN:VCALENDAR
VERSION:2.0
PRODID:-//ocao.org//NONSGML kigkonsult.se iCalcreator 2.30.10//
CALSCALE:GREGORIAN
METHOD:PUBLISH
UID:9fcde29b-81a9-4a8e-9573-d050542fc283
X-WR-CALDESC:***Survivors Only Event***\nRescheduled until a later date. \n
 Sorry friends and family you will have to sit this one out. Its time to tr
 y something new and go axe throwing. Join us for a few hours and learn to 
 throw axes and have a good time with your fellow survivors. Please note yo
 u can not arrive late to this event\, due to that the staff has to go over
  safety procedures.  Survivors you must click the waiver below and fill ou
 t the information.
X-WR-RELCALID:58604bdee3e632470b907bc6a64cdb11
X-WR-TIMEZONE:America/New_York
BEGIN:VTIMEZONE
TZID:America/New_York
BEGIN:STANDARD
TZNAME:EST
DTSTART:20211107T020000
TZOFFSETFROM:-0400
TZOFFSETTO:-0500
RDATE:20221106T020000
END:STANDARD
BEGIN:DAYLIGHT
TZNAME:EDT
DTSTART:20220313T020000
TZOFFSETFROM:-0500
TZOFFSETTO:-0400
RDATE:20230312T020000
END:DAYLIGHT
END:VTIMEZONE
BEGIN:VEVENT
UID:e62df85a-1e27-4511-847d-a7df2b6521eb
DTSTAMP:20260424T152259Z
DESCRIPTION:***Survivors Only Event***\nRescheduled until a later date. \nS
 orry friends and family you will have to sit this one out. Its time to try
  something new and go axe throwing. Join us for a few hours and learn to t
 hrow axes and have a good time with your fellow survivors. Please note you
  can not arrive late to this event\, due to that the staff has to go over 
 safety procedures.  Survivors you must click the waiver below and fill out
  the information.
DTSTART;TZID=America/New_York:20220423T130000
DTEND;TZID=America/New_York:20220423T151500
LOCATION:5780 N. Hamilton Rd.\, Columbus\, OH 43230 US
SUMMARY:Survivor Only Event - Axe Throwing
END:VEVENT
END:VCALENDAR
