BEGIN:VCALENDAR
VERSION:2.0
PRODID:-//ocao.org//NONSGML kigkonsult.se iCalcreator 2.30.10//
CALSCALE:GREGORIAN
METHOD:PUBLISH
UID:84216197-a061-42e5-8d2f-8a3de2578a15
X-WR-CALDESC:Join us for Designer Bag Bingo\nTickets are $40.00 each or a r
 eserved of 8 for $300.00\nTickets include 10 rounds of bingo\, BBQ dinner\
 , and a door prize ticket. \nThere will be two special round of bingo that
  are for a Vera Bradley travel pack. $20.00 for each round.\nSpecial games
  going on will be a drop raffle\, the dice game\, and walk around raffles 
 for special purses. \nWe will be able to take cash or credit cards that ev
 ening.
X-WR-RELCALID:a691d142e362f0145142ebca98486ee7
X-WR-TIMEZONE:America/New_York
BEGIN:VTIMEZONE
TZID:America/New_York
BEGIN:STANDARD
TZNAME:EST
DTSTART:20211107T020000
TZOFFSETFROM:-0400
TZOFFSETTO:-0500
RDATE:20221106T020000
END:STANDARD
BEGIN:DAYLIGHT
TZNAME:EDT
DTSTART:20220313T020000
TZOFFSETFROM:-0500
TZOFFSETTO:-0400
RDATE:20230312T020000
END:DAYLIGHT
END:VTIMEZONE
BEGIN:VEVENT
UID:481a4671-98c9-4147-83e8-bc55b8881c82
DTSTAMP:20260424T152259Z
DESCRIPTION:Join us for Designer Bag Bingo\nTickets are $40.00 each or a re
 served of 8 for $300.00\nTickets include 10 rounds of bingo\, BBQ dinner\,
  and a door prize ticket. \nThere will be two special round of bingo that 
 are for a Vera Bradley travel pack. $20.00 for each round.\nSpecial games 
 going on will be a drop raffle\, the dice game\, and walk around raffles f
 or special purses. \nWe will be able to take cash or credit cards that eve
 ning.
DTSTART;TZID=America/New_York:20220409T163000
DTEND;TZID=America/New_York:20220409T203000
LOCATION:5462 Center St.\, Hilliard\, OH 43026 US
SUMMARY:Designer Bag Bingo
END:VEVENT
END:VCALENDAR
