BEGIN:VCALENDAR
VERSION:2.0
PRODID:-//ocao.org//NONSGML kigkonsult.se iCalcreator 2.30.10//
CALSCALE:GREGORIAN
METHOD:PUBLISH
UID:0d8ae629-a260-47de-9ffb-d879193b6122
X-WR-CALDESC:Interested in learning more about the OCAO? The board meets on
 ce a month\, everyone is welcome to join us to hear what the board is plan
 ning.
X-WR-RELCALID:31cbead97833ccdf69edda54839da067
X-WR-TIMEZONE:America/New_York
BEGIN:VTIMEZONE
TZID:America/New_York
BEGIN:STANDARD
TZNAME:EST
DTSTART:20211107T020000
TZOFFSETFROM:-0400
TZOFFSETTO:-0500
RDATE:20221106T020000
END:STANDARD
BEGIN:DAYLIGHT
TZNAME:EDT
DTSTART:20220313T020000
TZOFFSETFROM:-0500
TZOFFSETTO:-0400
RDATE:20230312T020000
END:DAYLIGHT
END:VTIMEZONE
BEGIN:VEVENT
UID:90ecdff8-e909-464d-807e-7da59e97a4f8
DTSTAMP:20260424T132228Z
DESCRIPTION:Interested in learning more about the OCAO? The board meets onc
 e a month\, everyone is welcome to join us to hear what the board is plann
 ing.
DTSTART;TZID=America/New_York:20220316T180000
DTEND;TZID=America/New_York:20220316T193000
LOCATION:2800 Tremont Ave\, Upper Arlington \, OH 43221 US
SUMMARY:Board Meeting
END:VEVENT
END:VCALENDAR
