BEGIN:VCALENDAR
VERSION:2.0
PRODID:-//ocao.org//NONSGML kigkonsult.se iCalcreator 2.30.10//
CALSCALE:GREGORIAN
METHOD:PUBLISH
UID:0affdc23-eac6-4e0a-8a3a-63234ed003e6
X-WR-CALDESC:*****DUE TO WEATHER THE EVENT HAS CHANGED FROM THE 5TH OF FEBR
 UARY TO THE 12TH OF FEBRUARY*****\n'What’s our largest body organ?  Skin\,
  and a lot of it is dead skin!  Get ready for a complimentary pampering se
 ssion. Experience products that remove pore clogging dead skin and offer a
 mazing anti-aging skin care (step by step instructions). Your session also
  includes a microdermabrasion treatment\, satin lip treatment\, satin hand
 s treatment\, foundation matching and a complete color look. All treatment
 s will be provided at no cost and application will be guided by Mary Kay c
 onsultant Paula Fistick\nThere will be two sessions one that starts at 10:
 00am and the other starts at 1:30pm. Appetizers and drinks will be provide
 d.\nSurvivors Only\, friends and family will have to sit out on this one. 
 \n
X-WR-RELCALID:34785d6a5e73de7f14db78729b8ad6e5
X-WR-TIMEZONE:America/New_York
BEGIN:VTIMEZONE
TZID:America/New_York
BEGIN:STANDARD
TZNAME:EST
DTSTART:20211107T020000
TZOFFSETFROM:-0400
TZOFFSETTO:-0500
RDATE:20221106T020000
END:STANDARD
BEGIN:DAYLIGHT
TZNAME:EDT
DTSTART:20210314T020000
TZOFFSETFROM:-0500
TZOFFSETTO:-0400
RDATE:20220313T020000
RDATE:20230312T020000
END:DAYLIGHT
END:VTIMEZONE
BEGIN:VEVENT
UID:aacc8cb0-ac54-4c61-954b-2abc472b1528
DTSTAMP:20260424T120034Z
DESCRIPTION:*****DUE TO WEATHER THE EVENT HAS CHANGED FROM THE 5TH OF FEBRU
 ARY TO THE 12TH OF FEBRUARY*****\n'What’s our largest body organ?  Skin\, 
 and a lot of it is dead skin!  Get ready for a complimentary pampering ses
 sion. Experience products that remove pore clogging dead skin and offer am
 azing anti-aging skin care (step by step instructions). Your session also 
 includes a microdermabrasion treatment\, satin lip treatment\, satin hands
  treatment\, foundation matching and a complete color look. All treatments
  will be provided at no cost and application will be guided by Mary Kay co
 nsultant Paula Fistick\nThere will be two sessions one that starts at 10:0
 0am and the other starts at 1:30pm. Appetizers and drinks will be provided
 .\nSurvivors Only\, friends and family will have to sit out on this one. 
 \n
DTSTART;TZID=America/New_York:20220212T100000
DTEND;TZID=America/New_York:20220212T150000
LOCATION:2000 W. Henderson Rd\, Suite 80\, Colubus\, OH 43220 US
SUMMARY:A Day of Pampering - Survivor Only Event
END:VEVENT
END:VCALENDAR
