BEGIN:VCALENDAR
VERSION:2.0
PRODID:-//ocao.org//NONSGML kigkonsult.se iCalcreator 2.30.10//
CALSCALE:GREGORIAN
METHOD:PUBLISH
UID:3d6c9247-2bff-4bd5-9a0d-6c829593642f
X-WR-CALDESC:Join us for cancer awareness night at Nationwide Arena. We wil
 l have a private suite\, private bathroom\, food and a great view of the g
 ame. You can arrive at 4:30pm and the game starts at 6:00pm. Parking is no
 t provided but the best is the McConnell lot. Survivors are free and guest
 s are $100.00. Tickets are limited be sire to register soon. Tickets will 
 be mailed as soon as you register.
X-WR-RELCALID:45b78555bf1e5fd00f22fe29c7e80dfa
X-WR-TIMEZONE:America/New_York
BEGIN:VTIMEZONE
TZID:America/New_York
BEGIN:STANDARD
TZNAME:EST
DTSTART:20211107T020000
TZOFFSETFROM:-0400
TZOFFSETTO:-0500
RDATE:20221106T020000
END:STANDARD
BEGIN:DAYLIGHT
TZNAME:EDT
DTSTART:20210314T020000
TZOFFSETFROM:-0500
TZOFFSETTO:-0400
RDATE:20220313T020000
RDATE:20230312T020000
END:DAYLIGHT
END:VTIMEZONE
BEGIN:VEVENT
UID:70567d73-6ed4-4fb2-96b9-fc5fcb51c66f
DTSTAMP:20260424T132228Z
DESCRIPTION:Join us for cancer awareness night at Nationwide Arena. We will
  have a private suite\, private bathroom\, food and a great view of the ga
 me. You can arrive at 4:30pm and the game starts at 6:00pm. Parking is not
  provided but the best is the McConnell lot. Survivors are free and guests
  are $100.00. Tickets are limited be sire to register soon. Tickets will b
 e mailed as soon as you register.
DTSTART;TZID=America/New_York:20220123T163000
DTEND;TZID=America/New_York:20220123T210000
LOCATION:200 W Nationwide Blvd\, Columbus\, OH 43215 US
SUMMARY:OCAO and The Blue Jackets
END:VEVENT
END:VCALENDAR
