BEGIN:VCALENDAR
VERSION:2.0
PRODID:-//ocao.org//NONSGML kigkonsult.se iCalcreator 2.30.10//
CALSCALE:GREGORIAN
METHOD:PUBLISH
UID:6a5caa22-bb7e-4924-856d-827385f52ce1
X-WR-CALDESC:Grab some Blue Jackets tickets as a great gift or for you or s
 omeone you know\, and give back at the same time. The proceeds given back 
 to the OCAO will send survivors to a Blue Jackets game on the 23rd. \nClic
 k the link to purchase tickets
X-WR-RELCALID:a94c3c15823eed3193b3696c321f9f40
X-WR-TIMEZONE:America/New_York
BEGIN:VTIMEZONE
TZID:America/New_York
BEGIN:STANDARD
TZNAME:EST
DTSTART:20211107T020000
TZOFFSETFROM:-0400
TZOFFSETTO:-0500
RDATE:20221106T020000
END:STANDARD
BEGIN:DAYLIGHT
TZNAME:EDT
DTSTART:20210314T020000
TZOFFSETFROM:-0500
TZOFFSETTO:-0400
RDATE:20220313T020000
RDATE:20230312T020000
END:DAYLIGHT
END:VTIMEZONE
BEGIN:VEVENT
UID:545cb1b1-368b-41e7-8253-427e96cfbcc6
DTSTAMP:20260424T132551Z
DESCRIPTION:Grab some Blue Jackets tickets as a great gift or for you or so
 meone you know\, and give back at the same time. The proceeds given back t
 o the OCAO will send survivors to a Blue Jackets game on the 23rd. \nClick
  the link to purchase tickets
DTSTART;TZID=America/New_York:20220108T190000
DTEND;TZID=America/New_York:20220108T210000
LOCATION:200 Nationwide Blvd.\, Columbus\, OH 43215 US
SUMMARY:OCAO and the Blue Jackets
END:VEVENT
END:VCALENDAR
