BEGIN:VCALENDAR
VERSION:2.0
PRODID:-//ocao.org//NONSGML kigkonsult.se iCalcreator 2.30.10//
CALSCALE:GREGORIAN
METHOD:PUBLISH
UID:f50730d6-042e-45b3-a21b-e366ead4c486
X-WR-CALDESC:Join us for our annual meeting to hear what has been going on 
 the past year as well as what we have planned for the next.
X-WR-RELCALID:094520ffb9255da8a131a5527fe737cb
X-WR-TIMEZONE:America/New_York
BEGIN:VTIMEZONE
TZID:America/New_York
BEGIN:STANDARD
TZNAME:EST
DTSTART:20211107T020000
TZOFFSETFROM:-0400
TZOFFSETTO:-0500
RDATE:20221106T020000
END:STANDARD
BEGIN:DAYLIGHT
TZNAME:EDT
DTSTART:20210314T020000
TZOFFSETFROM:-0500
TZOFFSETTO:-0400
RDATE:20220313T020000
RDATE:20230312T020000
END:DAYLIGHT
END:VTIMEZONE
BEGIN:VEVENT
UID:9afadbcf-13c8-4d53-92cd-793e9ed4ef62
DTSTAMP:20260424T163517Z
DESCRIPTION:Join us for our annual meeting to hear what has been going on t
 he past year as well as what we have planned for the next.
DTSTART;TZID=America/New_York:20211115T180000
DTEND;TZID=America/New_York:20211115T190000
LOCATION:4900 Reed Rd.\, Suite 331\, Columbus\, OH 43220 US
SUMMARY:Annual Meeting
END:VEVENT
END:VCALENDAR
