BEGIN:VCALENDAR
VERSION:2.0
PRODID:-//ocao.org//NONSGML kigkonsult.se iCalcreator 2.30.10//
CALSCALE:GREGORIAN
METHOD:PUBLISH
UID:f40e07f3-118a-4058-a529-9e73f2b765f7
X-WR-CALDESC:***Registration is Now Closed***\nHello Ladies grab your favor
 ite hat and join us for an afternoon tea. \nWe will have a lovely afternoo
 n of tea\, finger sandwiches\, scones and laughs.\nSurvivors are free gues
 ts are $15.00\nSpace is limited so reserve your spot today.
X-WR-RELCALID:707dc2afa34ace1a0dd71bc68f2257fb
X-WR-TIMEZONE:America/New_York
BEGIN:VTIMEZONE
TZID:America/New_York
BEGIN:STANDARD
TZNAME:EST
DTSTART:20211107T020000
TZOFFSETFROM:-0400
TZOFFSETTO:-0500
RDATE:20221106T020000
END:STANDARD
BEGIN:DAYLIGHT
TZNAME:EDT
DTSTART:20210314T020000
TZOFFSETFROM:-0500
TZOFFSETTO:-0400
RDATE:20220313T020000
RDATE:20230312T020000
END:DAYLIGHT
END:VTIMEZONE
BEGIN:VEVENT
UID:12aaffbe-fc11-4dc3-8bfe-3ac051202cfc
DTSTAMP:20260421T050245Z
DESCRIPTION:***Registration is Now Closed***\nHello Ladies grab your favori
 te hat and join us for an afternoon tea. \nWe will have a lovely afternoon
  of tea\, finger sandwiches\, scones and laughs.\nSurvivors are free guest
 s are $15.00\nSpace is limited so reserve your spot today.
DTSTART;TZID=America/New_York:20211106T110000
DTEND;TZID=America/New_York:20211106T140000
LOCATION:4784 N. High St\, Columbus\, OH 43214 US
SUMMARY:Survivor Event: Teal Tea
END:VEVENT
END:VCALENDAR
