BEGIN:VCALENDAR
VERSION:2.0
PRODID:-//ocao.org//NONSGML kigkonsult.se iCalcreator 2.30.10//
CALSCALE:GREGORIAN
METHOD:PUBLISH
UID:5a84b2b9-9fbd-4d44-b95f-eaae6cc40200
X-WR-CALDESC:*****Survivor Only Event*****\n(Sorry friends and family you w
 ill have to sit this one out)\nOUR LONGEST TRAIN RIDE WITH BEAUTIFUL FALL 
 SCENERY!\nJoin us every Saturday and Sunday between Memorial Day weekend a
 nd the last full weekend of October for our longest regular weekend train 
 ride\, a roundtrip journey from Nelsonville Depot to East Logan.\n\nAlong 
 the way\, you’ll pass by the remains of Hocking Canal Lock No. 19 and foll
 ow the Hocking River. You’ll also get a glimpse of the current industry in
  the valley including gravel mining operations and a lumber facility.\n\nO
 nboard narration will provide the history of the area and railroad\, and p
 oint out other interesting views\, landmarks\, and scenery\nYou may bring 
 soft drinks and food aboard.\nNo restrooms on the train (available in the 
 depot).\nWheelchair lift available at the depot as needed.\n\nPlease arriv
 e at the depot by 11:30 to receive your ticket and get your seat. \nThey t
 rain waits for no one.
X-WR-RELCALID:7d468759419de05223463aea0d7f8a49
X-WR-TIMEZONE:America/New_York
BEGIN:VTIMEZONE
TZID:America/New_York
BEGIN:STANDARD
TZNAME:EST
DTSTART:20201101T020000
TZOFFSETFROM:-0400
TZOFFSETTO:-0500
RDATE:20211107T020000
RDATE:20221106T020000
END:STANDARD
BEGIN:DAYLIGHT
TZNAME:EDT
DTSTART:20210314T020000
TZOFFSETFROM:-0500
TZOFFSETTO:-0400
RDATE:20220313T020000
RDATE:20230312T020000
END:DAYLIGHT
END:VTIMEZONE
BEGIN:VEVENT
UID:029708be-72f6-409b-bcb9-a2936083d752
DTSTAMP:20260424T180928Z
DESCRIPTION:*****Survivor Only Event*****\n(Sorry friends and family you wi
 ll have to sit this one out)\nOUR LONGEST TRAIN RIDE WITH BEAUTIFUL FALL S
 CENERY!\nJoin us every Saturday and Sunday between Memorial Day weekend an
 d the last full weekend of October for our longest regular weekend train r
 ide\, a roundtrip journey from Nelsonville Depot to East Logan.\n\nAlong t
 he way\, you’ll pass by the remains of Hocking Canal Lock No. 19 and follo
 w the Hocking River. You’ll also get a glimpse of the current industry in 
 the valley including gravel mining operations and a lumber facility.\n\nOn
 board narration will provide the history of the area and railroad\, and po
 int out other interesting views\, landmarks\, and scenery\nYou may bring s
 oft drinks and food aboard.\nNo restrooms on the train (available in the d
 epot).\nWheelchair lift available at the depot as needed.\n\nPlease arrive
  at the depot by 11:30 to receive your ticket and get your seat. \nThey tr
 ain waits for no one.
DTSTART;TZID=America/New_York:20211030T113000
DTEND;TZID=America/New_York:20211030T140000
LOCATION:33 E. Canal St.\, Nelsonville\, OH 45764 US
SUMMARY:Survivor Train Ride
END:VEVENT
END:VCALENDAR
