BEGIN:VCALENDAR
VERSION:2.0
PRODID:-//ocao.org//NONSGML kigkonsult.se iCalcreator 2.30.10//
CALSCALE:GREGORIAN
METHOD:PUBLISH
UID:c72cb50d-1779-4e42-a38b-c7a45c5cd16d
X-WR-CALDESC:Bingo is back and scarier than ever. Join us for our Halloween
  themed bingo. \nSaturday Oct 23rd 2021\nDoors open at 5:00pm\nBingo start
 s at 6:30\nTickets are $40.00 each or a table of 8 for $300.00\nTickets in
 clude \n10 Rounds of Bingo\nDoor prize ticket\n& Dinner\n**Wear a Costume 
 and receive one free raffle ticket**\n\nMust be 18 or over to be in the ro
 om\n
X-WR-RELCALID:6af1192d88759c2577184ff3c7fcb114
X-WR-TIMEZONE:America/New_York
BEGIN:VTIMEZONE
TZID:America/New_York
BEGIN:STANDARD
TZNAME:EST
DTSTART:20201101T020000
TZOFFSETFROM:-0400
TZOFFSETTO:-0500
RDATE:20211107T020000
RDATE:20221106T020000
END:STANDARD
BEGIN:DAYLIGHT
TZNAME:EDT
DTSTART:20210314T020000
TZOFFSETFROM:-0500
TZOFFSETTO:-0400
RDATE:20220313T020000
RDATE:20230312T020000
END:DAYLIGHT
END:VTIMEZONE
BEGIN:VEVENT
UID:cde51fcd-c708-4012-8df3-0df04eec84fc
DTSTAMP:20260424T175739Z
DESCRIPTION:Bingo is back and scarier than ever. Join us for our Halloween 
 themed bingo. \nSaturday Oct 23rd 2021\nDoors open at 5:00pm\nBingo starts
  at 6:30\nTickets are $40.00 each or a table of 8 for $300.00\nTickets inc
 lude \n10 Rounds of Bingo\nDoor prize ticket\n& Dinner\n**Wear a Costume a
 nd receive one free raffle ticket**\n\nMust be 18 or over to be in the roo
 m\n
DTSTART;TZID=America/New_York:20211023T170000
DTEND;TZID=America/New_York:20211023T210000
LOCATION:5462 Center St.\, Hilliard St.\, OH 43026 US
SUMMARY:Designer Bag Bingo
END:VEVENT
END:VCALENDAR
